BEGIN:VCALENDAR
VERSION:2.0
METHOD:PUBLISH
PRODID:-//hacksw/handcal//NONSGML v1.0//EN
BEGIN:VEVENT
DTSTAMP:20260422T183112Z
DTSTART;VALUE=DATE:20230819
DTEND;VALUE=DATE:20230820
UID:20230818T230000Z-20230819T225959Z-101@sailingteam.be
SUMMARY:Optimist Team Race 2 | In-Out Spuikom
DESCRIPTION:
X-ALT-DESC;FMTTYPE=text/html:
URL:https://sailingteam.be/events/optimist-team-race-2-in-out-spuikom/
 ?lang=en
ATTACH:https://sailingteam.be/events/optimist-team-race-2-in-out-spuik
 om/?lang=en
LOCATION:Inside Outside | Spuikom\, Schietbaanstraat\, 100\, Oostende
END:VEVENT
END:VCALENDAR
