BEGIN:VCALENDAR
VERSION:2.0
METHOD:PUBLISH
PRODID:-//hacksw/handcal//NONSGML v1.0//EN
BEGIN:VEVENT
DTSTAMP:20260422T141839Z
DTSTART;VALUE=DATE:20230909
DTEND;VALUE=DATE:20230911
UID:20230908T230000Z-20230910T225959Z-108@sailingteam.be
SUMMARY:United 4 Sailing | Roompot [NED]
DESCRIPTION:Organisation \nUnited4Sailing
X-ALT-DESC;FMTTYPE=text/html:<p><small><i>Organisation</i></small> <br
 >\n<a href=https://www.united4sailing.org/>United4Sailing</a></p>\n
URL:https://sailingteam.be/events/u4-roompot-2023/?lang=en
ATTACH:https://sailingteam.be/events/u4-roompot-2023/?lang=en
LOCATION:Yacht Club Roompot ⎥Oosterschelde [NED]\, Sophia Boulevard 23
 -A\, Kamperland
END:VEVENT
END:VCALENDAR
