BEGIN:VCALENDAR
VERSION:2.0
METHOD:PUBLISH
PRODID:-//hacksw/handcal//NONSGML v1.0//EN
BEGIN:VEVENT
DTSTAMP:20260422T141943Z
DTSTART;VALUE=DATE:20230221
DTEND;VALUE=DATE:20230227
UID:20230220T230000Z-20230226T225959Z-118@sailingteam.be
SUMMARY:Clinic/Race WASZP ⎥Barcelona [ESP]
DESCRIPTION:https://www.waszp.es/barcelona-waszp-training-race/
X-ALT-DESC;FMTTYPE=text/html:<blockquote class=wp-embedded-content dat
 a-secret=ZBHGEMCs78><p><a href=https://www.waszp.es/barcelona-waszp-tr
 aining-race/>Barcelona Waszp TRAINING RACES</a></p></blockquote>\n<p><
 iframe class=wp-embedded-content sandbox=allow-scripts security=restri
 cted style=position: absolute\; clip: rect(1px\, 1px\, 1px\, 1px)\; ti
 tle=&#171\;Barcelona Waszp TRAINING RACES&#187\; &#8212\; waszp src=ht
 tps://www.waszp.es/barcelona-waszp-training-race/embed/#?secret=ZBHGEM
 Cs78 data-secret=ZBHGEMCs78 width=500 height=282 frameborder=0 marginw
 idth=0 marginheight=0 scrolling=no></iframe></p>\n
URL:https://sailingteam.be/events/clinicrace-waszp-e2-8e-a5barcelona-e
 sp-copy/?lang=en
ATTACH:https://sailingteam.be/events/clinicrace-waszp-e2-8e-a5barcelon
 a-esp-copy/?lang=en
LOCATION:Barcelona International Sailing Center ⎥Barcelona [ESP]\, Par
 c del Fòrum\, Sant Adrià del Besòs
END:VEVENT
END:VCALENDAR
