BEGIN:VCALENDAR
VERSION:2.0
METHOD:PUBLISH
PRODID:-//hacksw/handcal//NONSGML v1.0//EN
BEGIN:VEVENT
DTSTAMP:20260422T141850Z
DTSTART;VALUE=DATE:20240204
DTEND;VALUE=DATE:20240205
UID:20240203T230000Z-20240204T225959Z-164@sailingteam.be
SUMMARY:Optimist N1 | Zomerzuchtrace
DESCRIPTION:
X-ALT-DESC;FMTTYPE=text/html:
URL:https://sailingteam.be/events/optimist-race-n1-2024/?lang=en
ATTACH:https://sailingteam.be/events/optimist-race-n1-2024/?lang=en
LOCATION:Royal Yacht Club van België | Galgenweel\, Beatrijslaan 92D\,
  Linkeroever
END:VEVENT
END:VCALENDAR
