BEGIN:VCALENDAR
VERSION:2.0
METHOD:PUBLISH
PRODID:-//hacksw/handcal//NONSGML v1.0//EN
BEGIN:VEVENT
DTSTAMP:20260422T141840Z
DTSTART;VALUE=DATE:20240303
DTEND;VALUE=DATE:20240304
UID:20240302T230000Z-20240303T225959Z-165@sailingteam.be
SUMMARY:Optimist N2 | ZWC Orlent Beker
DESCRIPTION:
X-ALT-DESC;FMTTYPE=text/html:
URL:https://sailingteam.be/events/optimist-race-n2-2024/?lang=en
ATTACH:https://sailingteam.be/events/optimist-race-n2-2024/?lang=en
LOCATION:Zeil & Windsurf Club | Broechem\, Oelegemse steenweg 43b\, Br
 oechem
END:VEVENT
END:VCALENDAR
