BEGIN:VCALENDAR
VERSION:2.0
METHOD:PUBLISH
PRODID:-//hacksw/handcal//NONSGML v1.0//EN
BEGIN:VEVENT
DTSTAMP:20260422T141841Z
DTSTART;VALUE=DATE:20220604
DTEND;VALUE=DATE:20220606
UID:20220603T230000Z-20220605T225959Z-17@sailingteam.be
SUMMARY:Optimist N6 | SNEH Platte-Taille
DESCRIPTION:
X-ALT-DESC;FMTTYPE=text/html:
URL:https://sailingteam.be/events/optimist-n6-sneh-platte-taille/?lang
 =en
ATTACH:https://sailingteam.be/events/optimist-n6-sneh-platte-taille/?l
 ang=en
LOCATION:Sports Nautiques de l’Eau d’Heure | Platte-Taille\, Rue de Ou
 pia\, Froidchapelle
END:VEVENT
END:VCALENDAR
