BEGIN:VCALENDAR
VERSION:2.0
METHOD:PUBLISH
PRODID:-//hacksw/handcal//NONSGML v1.0//EN
BEGIN:VEVENT
DTSTAMP:20260422T141901Z
DTSTART;VALUE=DATE:20240623
DTEND;VALUE=DATE:20240624
UID:20240622T230000Z-20240623T225959Z-171@sailingteam.be
SUMMARY:Optimist | Vreemdijk Braakman Cup Optimist [NED]
DESCRIPTION:The DOCB General Assembly on 11 November 2023 has decided 
 that the results of this regatta will no longer count towards the nati
 onal rankings.\nFeel free to support our Official Optimist Team Belgiu
 m of our children by following us\nSee also #jesuisoptimist
X-ALT-DESC;FMTTYPE=text/html:<p>The DOCB General Assembly on 11 Novemb
 er 2023 has decided that the results of this regatta will no longer co
 unt towards the national rankings.<br>\nFeel free to support our Offic
 ial Optimist Team Belgium of our children by following us<br>\nSee als
 o <a href=https://sailingteam.be/jesuisoptimist/>#jesuis<strong>optimi
 st</strong></a></p>\n
URL:https://sailingteam.be/events/optimist-race-7-2024/?lang=en
ATTACH:https://sailingteam.be/events/optimist-race-7-2024/?lang=en
LOCATION:Watersportvereniging Vremdijck | Braakman [NED]\, Hazenlaan\,
  24\, Hoek
END:VEVENT
END:VCALENDAR
