BEGIN:VCALENDAR
VERSION:2.0
METHOD:PUBLISH
PRODID:-//hacksw/handcal//NONSGML v1.0//EN
BEGIN:VEVENT
DTSTAMP:20260422T141902Z
DTSTART;VALUE=DATE:20240622
DTEND;VALUE=DATE:20240623
UID:20240621T230000Z-20240622T225959Z-172@sailingteam.be
SUMMARY:Optimist Team Race 1 | Vreemdijk Braakman Cup Optimist [NED]
DESCRIPTION:The DOCB General Assembly on 11 November 2023 has decided 
 that the results of this regatta will no longer count towards the nati
 onal rankings.\nFeel free to support our Official Optimist Team Belgiu
 m of our children by following us\nSee also #jesuisoptimist
X-ALT-DESC;FMTTYPE=text/html:<p>The DOCB General Assembly on 11 Novemb
 er 2023 has decided that the results of this regatta will no longer co
 unt towards the national rankings.<br>\nFeel free to support our Offic
 ial Optimist Team Belgium of our children by following us<br>\nSee als
 o <a href=https://sailingteam.be/jesuisoptimist/>#jesuis<strong>optimi
 st</strong></a></p>\n
URL:https://sailingteam.be/events/optimist-teamrace-n1-2024/?lang=en
ATTACH:https://sailingteam.be/events/optimist-teamrace-n1-2024/?lang=e
 n
LOCATION:Watersportvereniging Vremdijck | Braakman [NED]\, Hazenlaan\,
  24\, Hoek
END:VEVENT
END:VCALENDAR
