BEGIN:VCALENDAR
VERSION:2.0
METHOD:PUBLISH
PRODID:-//hacksw/handcal//NONSGML v1.0//EN
BEGIN:VEVENT
DTSTAMP:20260422T141851Z
DTSTART;VALUE=DATE:20240901
DTEND;VALUE=DATE:20240902
UID:20240831T230000Z-20240901T225959Z-176@sailingteam.be
SUMMARY:Optimist N8 | DOCB VVW Blankenberge
DESCRIPTION:
X-ALT-DESC;FMTTYPE=text/html:
URL:https://sailingteam.be/events/optimist-race-n8-2024/?lang=en
ATTACH:https://sailingteam.be/events/optimist-race-n8-2024/?lang=en
LOCATION:Vereniging Voor Watersport | Blankenberge\, Wenduinse Steenwe
 g 1\, Blankenberge
END:VEVENT
END:VCALENDAR
