BEGIN:VCALENDAR
VERSION:2.0
METHOD:PUBLISH
PRODID:-//hacksw/handcal//NONSGML v1.0//EN
BEGIN:VEVENT
DTSTAMP:20260422T154100Z
DTSTART;VALUE=DATE:20240317
DTEND;VALUE=DATE:20240318
UID:20240316T230000Z-20240317T225959Z-188@sailingteam.be
SUMMARY:ILCA N2⎥KLYC Galgenweel
DESCRIPTION:
X-ALT-DESC;FMTTYPE=text/html:
URL:https://sailingteam.be/events/ilca-n2-2024/?lang=en
ATTACH:https://sailingteam.be/events/ilca-n2-2024/?lang=en
LOCATION:Koninklijke Liberty Yacht Club | Galgenweel\, Beatrijslaan 90
 \, Linkeroever
END:VEVENT
END:VCALENDAR
