BEGIN:VCALENDAR
VERSION:2.0
METHOD:PUBLISH
PRODID:-//hacksw/handcal//NONSGML v1.0//EN
BEGIN:VEVENT
DTSTAMP:20260422T141900Z
DTSTART;VALUE=DATE:20220702
DTEND;VALUE=DATE:20220707
UID:20220701T230000Z-20220706T225959Z-20@sailingteam.be
SUMMARY:International Optisummer Regatta | Nieuwpoortweek
DESCRIPTION:Participation is confirmed\nWe will be happy to welcome TU
 N1569 Edriss with BEL 1080 Zoé and BEL 1192 Maxime.\nFirst training is
  scheduled on Thursday 30/06 at 11h00 from WSKLuM\n\nFeel free to supp
 ort our Official Optimist Team Belgium of our children by following us
 \nSee also #jesuisoptimist
X-ALT-DESC;FMTTYPE=text/html:<p>Participation is confirmed<br>\nWe wil
 l be happy to welcome TUN1569 Edriss with BEL 1080 Zoé and BEL 1192 Ma
 xime.<br>\nFirst training is scheduled on Thursday 30/06 at 11h00 from
  WSKLuM</p>\n<p>Feel free to support our Official Optimist Team Belgiu
 m of our children by following us<br>\nSee also <a href=https://sailin
 gteam.be/jesuisoptimist/>#jesuis<strong>optimist</strong></a></p>\n
URL:https://sailingteam.be/events/international-optisummer-regatta-nie
 uwpoortweek/?lang=en
ATTACH:https://sailingteam.be/events/international-optisummer-regatta-
 nieuwpoortweek/?lang=en
LOCATION:Watersportkring Luchtmacht | Nieuwpoort\, Halvemaanstraat 2/B
 \, Nieuwpoort
END:VEVENT
END:VCALENDAR
