BEGIN:VCALENDAR
VERSION:2.0
METHOD:PUBLISH
PRODID:-//hacksw/handcal//NONSGML v1.0//EN
BEGIN:VEVENT
DTSTAMP:20260422T141700Z
DTSTART;VALUE=DATE:20220730
DTEND;VALUE=DATE:20220806
UID:20220729T230000Z-20220805T225959Z-21@sailingteam.be
SUMMARY:2022 European Championship | Sonderborg  [DEN]
DESCRIPTION:
X-ALT-DESC;FMTTYPE=text/html:
URL:https://sailingteam.be/events/2022-european-championship-sonderbor
 g-den/?lang=en
ATTACH:https://sailingteam.be/events/2022-european-championship-sonder
 borg-den/?lang=en
LOCATION:Sønderborg Yacht-Club | Sønderborg Bugt [DAN]\, Marina Allé 1
 2\, Sønderborg
END:VEVENT
END:VCALENDAR
