BEGIN:VCALENDAR
VERSION:2.0
METHOD:PUBLISH
PRODID:-//hacksw/handcal//NONSGML v1.0//EN
BEGIN:VEVENT
DTSTAMP:20260422T141722Z
DTSTART;VALUE=DATE:20220917
DTEND;VALUE=DATE:20220919
UID:20220916T230000Z-20220918T225959Z-26@sailingteam.be
SUMMARY:International Optifall Regatta | Open Belgian Championship
DESCRIPTION:Feel free to support our Official Optimist Team Belgium of
  our children by following us\nSee also #jesuisoptimist
X-ALT-DESC;FMTTYPE=text/html:<p>Feel free to support our Official Opti
 mist Team Belgium of our children by following us<br>\nSee also <a hre
 f=https://sailingteam.be/jesuisoptimist/>#jesuis<strong>optimist</stro
 ng></a></p>\n
URL:https://sailingteam.be/events/international-optifall-regatta-open-
 belgian-championship/?lang=en
ATTACH:https://sailingteam.be/events/international-optifall-regatta-op
 en-belgian-championship/?lang=en
LOCATION:Watersportkring Luchtmacht | Nieuwpoort\, Halvemaanstraat 2/B
 \, Nieuwpoort
END:VEVENT
END:VCALENDAR
