BEGIN:VCALENDAR
VERSION:2.0
METHOD:PUBLISH
PRODID:-//hacksw/handcal//NONSGML v1.0//EN
BEGIN:VEVENT
DTSTAMP:20260422T141706Z
DTSTART;VALUE=DATE:20221002
DTEND;VALUE=DATE:20221003
UID:20221001T230000Z-20221002T225959Z-29@sailingteam.be
SUMMARY:Optimist N10 | Galgenweel
DESCRIPTION:
X-ALT-DESC;FMTTYPE=text/html:
URL:https://sailingteam.be/events/optimist-n10-galgenweel/?lang=en
ATTACH:https://sailingteam.be/events/optimist-n10-galgenweel/?lang=en
LOCATION:Koninklijke Liberty Yacht Club | Galgenweel\, Beatrijslaan 90
 \, Linkeroever
END:VEVENT
END:VCALENDAR
