BEGIN:VCALENDAR
VERSION:2.0
METHOD:PUBLISH
PRODID:-//hacksw/handcal//NONSGML v1.0//EN
BEGIN:VEVENT
DTSTAMP:20260422T141641Z
DTSTART;VALUE=DATE:20221016
DTEND;VALUE=DATE:20221017
UID:20221015T230000Z-20221016T225959Z-32@sailingteam.be
SUMMARY:Optimist N11 | RCNV
DESCRIPTION:
X-ALT-DESC;FMTTYPE=text/html:
URL:https://sailingteam.be/events/optimist-n11-rcnv/?lang=en
ATTACH:https://sailingteam.be/events/optimist-n11-rcnv/?lang=en
LOCATION:Royal Club Nautique de Visé | Meuse\, Ile Robinson\, 1\, Visé
END:VEVENT
END:VCALENDAR
