BEGIN:VCALENDAR
VERSION:2.0
METHOD:PUBLISH
PRODID:-//hacksw/handcal//NONSGML v1.0//EN
BEGIN:VEVENT
DTSTAMP:20260422T141706Z
DTSTART;VALUE=DATE:20230422
DTEND;VALUE=DATE:20230424
UID:20230421T230000Z-20230423T225959Z-37@sailingteam.be
SUMMARY:United 4 Sailing | Medemblik [NED]
DESCRIPTION:Selection regatta for Optimist Team Belgium\n\nOrganisatio
 n \nUnited4Sailing
X-ALT-DESC;FMTTYPE=text/html:<p>Selection regatta for Optimist Team Be
 lgium</p>\n<p><small><i>Organisation</i></small> <br>\n<a href=https:/
 /www.united4sailing.org/>United4Sailing</a></p>\n
URL:https://sailingteam.be/events/united-4-sailing-medemblik-ned-2/?la
 ng=en
ATTACH:https://sailingteam.be/events/united-4-sailing-medemblik-ned-2/
 ?lang=en
LOCATION:Regatta Center Medemblik | Ijsselmeer [NED]\, Vooroever 1\, M
 edemblik
END:VEVENT
END:VCALENDAR
