BEGIN:VCALENDAR
VERSION:2.0
METHOD:PUBLISH
PRODID:-//hacksw/handcal//NONSGML v1.0//EN
BEGIN:VEVENT
DTSTAMP:20260422T141830Z
DTSTART;VALUE=DATE:20230923
DTEND;VALUE=DATE:20230925
UID:20230922T230000Z-20230924T225959Z-40@sailingteam.be
SUMMARY:United 4 Sailing | Medemblik [NED]
DESCRIPTION:Organisation \nUnited4Sailing
X-ALT-DESC;FMTTYPE=text/html:<p><small><i>Organisation</i></small> <br
 >\n<a href=https://www.united4sailing.org/>United4Sailing</a></p>\n
URL:https://sailingteam.be/events/united-4-sailing-medemblik-ned-3/?la
 ng=en
ATTACH:https://sailingteam.be/events/united-4-sailing-medemblik-ned-3/
 ?lang=en
LOCATION:Regatta Center Medemblik | Ijsselmeer [NED]\, Vooroever 1\, M
 edemblik
END:VEVENT
END:VCALENDAR
