BEGIN:VCALENDAR
VERSION:2.0
METHOD:PUBLISH
PRODID:-//hacksw/handcal//NONSGML v1.0//EN
BEGIN:VEVENT
DTSTAMP:20260422T140212Z
DTSTART;VALUE=DATE:20230518
DTEND;VALUE=DATE:20230522
UID:20230517T230000Z-20230521T225959Z-41@sailingteam.be
SUMMARY:Dutch Youth Regatta | Workum [NED]
DESCRIPTION:
X-ALT-DESC;FMTTYPE=text/html:
URL:https://sailingteam.be/events/dyr-2023/?lang=en
ATTACH:https://sailingteam.be/events/dyr-2023/?lang=en
LOCATION:It Soal Workum | Ijsselmeer [NED]\, Suderseleane 29\,
END:VEVENT
END:VCALENDAR
