BEGIN:VCALENDAR
VERSION:2.0
METHOD:PUBLISH
PRODID:-//hacksw/handcal//NONSGML v1.0//EN
BEGIN:VEVENT
DTSTAMP:20260422T141722Z
DTSTART;VALUE=DATE:20230212
DTEND;VALUE=DATE:20230213
UID:20230211T230000Z-20230212T225959Z-46@sailingteam.be
SUMMARY:Optimist N1 | Zomerzuchtrace
DESCRIPTION:
X-ALT-DESC;FMTTYPE=text/html:
URL:https://sailingteam.be/events/optimist-n1-zomerzuchtrace-2023/?lan
 g=en
ATTACH:https://sailingteam.be/events/optimist-n1-zomerzuchtrace-2023/?
 lang=en
LOCATION:Royal Yacht Club van België | Galgenweel\, Beatrijslaan 92D\,
  Linkeroever
END:VEVENT
END:VCALENDAR
