BEGIN:VCALENDAR
VERSION:2.0
METHOD:PUBLISH
PRODID:-//hacksw/handcal//NONSGML v1.0//EN
BEGIN:VEVENT
DTSTAMP:20260422T141851Z
DTSTART;VALUE=DATE:20230305
DTEND;VALUE=DATE:20230306
UID:20230304T230000Z-20230305T225959Z-47@sailingteam.be
SUMMARY:Optimist N2 | ZWC Orlent Beker
DESCRIPTION:
X-ALT-DESC;FMTTYPE=text/html:
URL:https://sailingteam.be/events/optimist-n2-zwc-orlent-beker/?lang=e
 n
ATTACH:https://sailingteam.be/events/optimist-n2-zwc-orlent-beker/?lan
 g=en
LOCATION:Zeil & Windsurf Club | Broechem\, Oelegemse steenweg 43b\, Br
 oechem
END:VEVENT
END:VCALENDAR
