BEGIN:VCALENDAR
VERSION:2.0
METHOD:PUBLISH
PRODID:-//hacksw/handcal//NONSGML v1.0//EN
BEGIN:VEVENT
DTSTAMP:20260422T141702Z
DTSTART;VALUE=DATE:20230312
DTEND;VALUE=DATE:20230313
UID:20230311T230000Z-20230312T225959Z-48@sailingteam.be
SUMMARY:Optimist N3 | RBSC Heusden
DESCRIPTION:
X-ALT-DESC;FMTTYPE=text/html:
URL:https://sailingteam.be/events/optimist-n3-rbsc-2023/?lang=en
ATTACH:https://sailingteam.be/events/optimist-n3-rbsc-2023/?lang=en
LOCATION:Royal Belgian Sailing Club | Damslootmeer\, Stapsteenweg 50\,
  Heusden
END:VEVENT
END:VCALENDAR
