BEGIN:VCALENDAR
VERSION:2.0
METHOD:PUBLISH
PRODID:-//hacksw/handcal//NONSGML v1.0//EN
BEGIN:VEVENT
DTSTAMP:20260422T141850Z
DTSTART;VALUE=DATE:20230430
DTEND;VALUE=DATE:20230501
UID:20230429T230000Z-20230430T225959Z-50@sailingteam.be
SUMMARY:Optimist N4 | VVW Galgenweel
DESCRIPTION:
X-ALT-DESC;FMTTYPE=text/html:
URL:https://sailingteam.be/events/optimist-n5-vvw-galgenweel-2/?lang=e
 n
ATTACH:https://sailingteam.be/events/optimist-n5-vvw-galgenweel-2/?lan
 g=en
LOCATION:Vereniging Voor Watersport | Galgenweel\, Beatrijslaan 92c\, 
 Linkeroever
END:VEVENT
END:VCALENDAR
