BEGIN:VCALENDAR
VERSION:2.0
METHOD:PUBLISH
PRODID:-//hacksw/handcal//NONSGML v1.0//EN
BEGIN:VEVENT
DTSTAMP:20260422T141723Z
DTSTART;VALUE=DATE:20230625
DTEND;VALUE=DATE:20230626
UID:20230624T230000Z-20230625T225959Z-52@sailingteam.be
SUMMARY:Optimist N7 | Vremdijck Braakman Cup Optimist [NED]
DESCRIPTION:Feel free to support our Official Optimist Team Belgium of
  our children by following us\nSee also #jesuisoptimist
X-ALT-DESC;FMTTYPE=text/html:<p>Feel free to support our Official Opti
 mist Team Belgium of our children by following us<br>\nSee also <a hre
 f=https://sailingteam.be/jesuisoptimist/>#jesuis<strong>optimist</stro
 ng></a></p>\n
URL:https://sailingteam.be/events/optimist-n7-2023/?lang=en
ATTACH:https://sailingteam.be/events/optimist-n7-2023/?lang=en
LOCATION:Watersportvereniging Vremdijck | Braakman [NED]\, Hazenlaan\,
  24\, Hoek
END:VEVENT
END:VCALENDAR
