BEGIN:VCALENDAR
VERSION:2.0
METHOD:PUBLISH
PRODID:-//hacksw/handcal//NONSGML v1.0//EN
BEGIN:VEVENT
DTSTAMP:20260422T141829Z
DTSTART;VALUE=DATE:20230827
DTEND;VALUE=DATE:20230828
UID:20230826T230000Z-20230827T225959Z-53@sailingteam.be
SUMMARY:Optimist N9 | VVW Blankenberge
DESCRIPTION:
X-ALT-DESC;FMTTYPE=text/html:
URL:https://sailingteam.be/events/optimist-n9-vvw-blankenberge/?lang=e
 n
ATTACH:https://sailingteam.be/events/optimist-n9-vvw-blankenberge/?lan
 g=en
LOCATION:Vereniging Voor Watersport | Blankenberge\, Wenduinse Steenwe
 g 1\, Blankenberge
END:VEVENT
END:VCALENDAR
