BEGIN:VCALENDAR
VERSION:2.0
METHOD:PUBLISH
PRODID:-//hacksw/handcal//NONSGML v1.0//EN
BEGIN:VEVENT
DTSTAMP:20260422T141828Z
DTSTART;VALUE=DATE:20230820
DTEND;VALUE=DATE:20230821
UID:20230819T230000Z-20230820T225959Z-54@sailingteam.be
SUMMARY:Optimist N8 | In-Out Spuikom
DESCRIPTION:
X-ALT-DESC;FMTTYPE=text/html:
URL:https://sailingteam.be/events/in-out-2023/?lang=en
ATTACH:https://sailingteam.be/events/in-out-2023/?lang=en
LOCATION:Inside Outside | Spuikom\, Schietbaanstraat\, 100\, Oostende
END:VEVENT
END:VCALENDAR
