BEGIN:VCALENDAR
VERSION:2.0
METHOD:PUBLISH
PRODID:-//hacksw/handcal//NONSGML v1.0//EN
BEGIN:VEVENT
DTSTAMP:20260422T141707Z
DTSTART;VALUE=DATE:20231022
DTEND;VALUE=DATE:20231023
UID:20231021T230000Z-20231022T225959Z-55@sailingteam.be
SUMMARY:Optimist N11 | Galgenweel
DESCRIPTION:
X-ALT-DESC;FMTTYPE=text/html:
URL:https://sailingteam.be/events/optimist-n11-2023/?lang=en
ATTACH:https://sailingteam.be/events/optimist-n11-2023/?lang=en
LOCATION:Koninklijke Liberty Yacht Club | Galgenweel\, Beatrijslaan 90
 \, Linkeroever
END:VEVENT
END:VCALENDAR
