BEGIN:VCALENDAR
VERSION:2.0
METHOD:PUBLISH
PRODID:-//hacksw/handcal//NONSGML v1.0//EN
BEGIN:VEVENT
DTSTAMP:20260422T141707Z
DTSTART;VALUE=DATE:20230528
DTEND;VALUE=DATE:20230529
UID:20230527T230000Z-20230528T225959Z-64@sailingteam.be
SUMMARY:ILCA N4⎥Visé
DESCRIPTION:
X-ALT-DESC;FMTTYPE=text/html:
URL:https://sailingteam.be/events/n5-ilca-2023-rcnv/?lang=en
ATTACH:https://sailingteam.be/events/n5-ilca-2023-rcnv/?lang=en
LOCATION:Royal Club Nautique de Visé | Meuse\, Ile Robinson\, 1\, Visé
END:VEVENT
END:VCALENDAR
