BEGIN:VCALENDAR
VERSION:2.0
METHOD:PUBLISH
PRODID:-//hacksw/handcal//NONSGML v1.0//EN
BEGIN:VEVENT
DTSTAMP:20260422T141702Z
DTSTART;VALUE=DATE:20230930
DTEND;VALUE=DATE:20231002
UID:20230929T230000Z-20231001T225959Z-73@sailingteam.be
SUMMARY:[Inland] Open Belgium Championship⎥Platte Taille
DESCRIPTION:
X-ALT-DESC;FMTTYPE=text/html:
URL:https://sailingteam.be/events/inland-open-belgium-championship-202
 3/?lang=en
ATTACH:https://sailingteam.be/events/inland-open-belgium-championship-
 2023/?lang=en
LOCATION:Sports Nautiques de l’Eau d’Heure | Platte-Taille\, Rue de Ou
 pia\, Froidchapelle
END:VEVENT
END:VCALENDAR
