BEGIN:VCALENDAR
VERSION:2.0
METHOD:PUBLISH
PRODID:-//hacksw/handcal//NONSGML v1.0//EN
BEGIN:VEVENT
DTSTAMP:20260422T141723Z
DTSTART;VALUE=DATE:20231029
DTEND;VALUE=DATE:20231030
UID:20231028T230000Z-20231029T225959Z-74@sailingteam.be
SUMMARY:ILCA N12⎥ZSG Gavermeer
DESCRIPTION:
X-ALT-DESC;FMTTYPE=text/html:
URL:https://sailingteam.be/events/ilca-n12-zsg-gavermeer-23/?lang=en
ATTACH:https://sailingteam.be/events/ilca-n12-zsg-gavermeer-23/?lang=e
 n
LOCATION:Zeil en Surfclub Gavermeer | Gavermeer\, Eikenstraat 131\, Ha
 relbeke
END:VEVENT
END:VCALENDAR
