BEGIN:VCALENDAR
VERSION:2.0
METHOD:PUBLISH
PRODID:-//hacksw/handcal//NONSGML v1.0//EN
BEGIN:VEVENT
DTSTAMP:20260422T141700Z
DTSTART;VALUE=DATE:20231022
DTEND;VALUE=DATE:20231023
UID:20231021T230000Z-20231022T225959Z-75@sailingteam.be
SUMMARY:ILCA N11⎥RBSC Heusden
DESCRIPTION:
X-ALT-DESC;FMTTYPE=text/html:
URL:https://sailingteam.be/events/ilca-n12-2023/?lang=en
ATTACH:https://sailingteam.be/events/ilca-n12-2023/?lang=en
LOCATION:Royal Belgian Sailing Club | Damslootmeer\, Stapsteenweg 50\,
  Heusden
END:VEVENT
END:VCALENDAR
