BEGIN:VCALENDAR
VERSION:2.0
METHOD:PUBLISH
PRODID:-//hacksw/handcal//NONSGML v1.0//EN
BEGIN:VEVENT
DTSTAMP:20260422T141641Z
DTSTART;VALUE=DATE:20220327
DTEND;VALUE=DATE:20220328
UID:20220326T230000Z-20220327T225959Z-8@sailingteam.be
SUMMARY:Optimist N3 | RBSC Heusden
DESCRIPTION:
X-ALT-DESC;FMTTYPE=text/html:
URL:https://sailingteam.be/events/optimist-n3-rbsc-heusden/?lang=en
ATTACH:https://sailingteam.be/events/optimist-n3-rbsc-heusden/?lang=en
LOCATION:Royal Belgian Sailing Club | Damslootmeer\, Stapsteenweg 50\,
  Heusden
END:VEVENT
END:VCALENDAR
